BEGIN:VCALENDAR
VERSION:2.0
PRODID:-//ChamberMaster//Event Calendar 2.0//EN
METHOD:PUBLISH
X-PUBLISHED-TTL:P1H
REFRESH-INTERVAL:P1H
CALSCALE:GREGORIAN
BEGIN:VTIMEZONE
TZID:America/Chicago
BEGIN:DAYLIGHT
RRULE:FREQ=YEARLY;BYMONTH=3;BYDAY=2SU
DTSTART:20070101T000000
TZOFFSETFROM:-0600
TZOFFSETTO:-0500
TZNAME:Central Daylight Time
END:DAYLIGHT
BEGIN:STANDARD
RRULE:FREQ=YEARLY;BYMONTH=11;BYDAY=1SU
DTSTART:20070101T000000
TZOFFSETFROM:-0500
TZOFFSETTO:-0600
TZNAME:Central Standard Time
END:STANDARD
END:VTIMEZONE
BEGIN:VEVENT
DTSTART;TZID=America/Chicago:20260506T150000
DTEND;TZID=America/Chicago:20260506T163000
X-MICROSOFT-CDO-ALLDAYEVENT:FALSE
SUMMARY:Right-Sizing Class - Learning with Lange
DESCRIPTION:YOU’RE INVITED!☕🏡\nThinking about simplifying your space or moving into a home that better fits your needs?\nJoin us for our Right-Sizing Class and learn how to transition with confidence—plus enjoy coffee & treats\, and receive a FREE resource packet when you attend!\n📍 Lange Real Estate | West Maple\n⏰ May 6 | 3:00–5:00 PM (3pm coffee and treats / 3:15pm Class content starts!)\n⚠️ Only 20 spots available\nSIGN UP HERE! 👇 https://forms.gle/kZBpoNm4UwGXy9179\n📞 Call 316-529-3100 / Email team@langeRE.com with any questions or for more information!
X-ALT-DESC;FMTTYPE=text/html:YOU’RE INVITED!☕🏡\nThinking about simplifying your space or moving into a home that better fits your needs?\nJoin us for our Right-Sizing Class and learn how to transition with confidence—plus enjoy coffee & treats\, and receive a FREE resource packet when you attend!\n📍 Lange Real Estate | West Maple\n⏰ May 6 | 3:00–5:00 PM (3pm coffee and treats / 3:15pm Class content starts!)\n⚠️ Only 20 spots available\nSIGN UP HERE! 👇 https://forms.gle/kZBpoNm4UwGXy9179\n📞 Call 316-529-3100 / Email team@langeRE.com with any questions or for more information!
LOCATION:13605 W Maple St Suite 103 Wichita KS 67235
UID:e.3246.1448540
SEQUENCE:3
DTSTAMP:20260425T192608Z
URL:https://members.wiba.org/9andwine/Details/right-sizing-class-learning-with-lange-1715539?sourceTypeId=Hub
END:VEVENT
END:VCALENDAR
