BEGIN:VCALENDAR
VERSION:2.0
PRODID:-//ChamberMaster//Event Calendar 2.0//EN
METHOD:PUBLISH
X-PUBLISHED-TTL:P1H
REFRESH-INTERVAL:P1H
CALSCALE:GREGORIAN
BEGIN:VTIMEZONE
TZID:America/Chicago
BEGIN:DAYLIGHT
RRULE:FREQ=YEARLY;BYMONTH=3;BYDAY=2SU
DTSTART:20070101T000000
TZOFFSETFROM:-0600
TZOFFSETTO:-0500
TZNAME:Central Daylight Time
END:DAYLIGHT
BEGIN:STANDARD
RRULE:FREQ=YEARLY;BYMONTH=11;BYDAY=1SU
DTSTART:20070101T000000
TZOFFSETFROM:-0500
TZOFFSETTO:-0600
TZNAME:Central Standard Time
END:STANDARD
END:VTIMEZONE
BEGIN:VEVENT
DTSTART;TZID=America/Chicago:20260824T083000
DTEND;TZID=America/Chicago:20260824T163000
X-MICROSOFT-CDO-ALLDAYEVENT:FALSE
SUMMARY:Professional Dog Grooming Certification
DESCRIPTION:Butler Community College's Career & Workforce Education Dept. is excited to introduce a groundbreaking dog grooming course powered by Groom Curriculum\, designed to set students on a path to success in the rapidly growing pet care industry. This training aligns with the American Kennel Club's (AKC) new Professional Groomer Credential (PGC)\, a credential that verifies not only a student's technical skill but also their real-world grooming experience through rigorous testing by the AKC. In addition\, Groom Curriculum helps students build a professional grooming portfolio\, further demonstrating their abilities and giving them a competitive edge in the job market. Days: MTuWTh
X-ALT-DESC;FMTTYPE=text/html:<!DOCTYPE html><html><head><title></title></head><body aria-disabled="false"><p>Butler Community College&#39\;s Career &amp\; Workforce Education Dept. is excited to introduce a groundbreaking dog grooming course powered by Groom Curriculum\, designed to set students on a path to success in the rapidly growing pet care industry. This training aligns with the American Kennel Club&#39\;s (AKC) new Professional Groomer Credential (PGC)\, a credential that verifies not only a student&#39\;s technical skill but also their real-world grooming experience through rigorous testing by the AKC. In addition\, Groom Curriculum helps students build a professional grooming portfolio\, further demonstrating their abilities and giving them a competitive edge in the job market. Days: MTuWTh</p></body></html>
LOCATION:229 N Andover Rd\, Suite 200 Andover KS 67002
UID:e.3246.1417651
SEQUENCE:3
DTSTAMP:20260425T192341Z
URL:https://members.wiba.org/9andwine/Details/professional-dog-grooming-certification-1675753?sourceTypeId=Hub
END:VEVENT
END:VCALENDAR
